BEGIN:VCALENDAR
VERSION:2.0
PRODID:icalendar-ruby
CALSCALE:GREGORIAN
METHOD:PUBLISH
BEGIN:VEVENT
DTSTAMP:20260422T134508Z
UID:5-401571@roca.church
DTSTART:20260913T163000Z
DTEND:20260913T173000Z
CLASS:PUBLIC
CREATED:20260422T065051
DESCRIPTION:Sunday Worship
LAST-MODIFIED:20260422T065051
LOCATION:
SUMMARY:Sunday Worship
URL;VALUE=URI:https://www.roca.church/events/sunday-worship/2026-09-13
END:VEVENT
END:VCALENDAR
