BEGIN:VCALENDAR
VERSION:2.0
PRODID:icalendar-ruby
CALSCALE:GREGORIAN
METHOD:PUBLISH
BEGIN:VEVENT
DTSTAMP:20260422T171949Z
UID:5-401834@roca.church
DTSTART:20260927T163000Z
DTEND:20260927T173000Z
CLASS:PUBLIC
CREATED:20260422T094609
DESCRIPTION:Sunday Worship
LAST-MODIFIED:20260422T094609
LOCATION:
SUMMARY:Sunday Worship
URL;VALUE=URI:https://www.roca.church/events/sunday-worship/2026-09-27
END:VEVENT
END:VCALENDAR
