BEGIN:VCALENDAR
VERSION:2.0
PRODID:icalendar-ruby
CALSCALE:GREGORIAN
METHOD:PUBLISH
BEGIN:VEVENT
DTSTAMP:20260422T204531Z
UID:5-402097@roca.church
DTSTART:20261011T163000Z
DTEND:20261011T173000Z
CLASS:PUBLIC
CREATED:20260422T124036
DESCRIPTION:Sunday Worship
LAST-MODIFIED:20260422T124036
LOCATION:
SUMMARY:Sunday Worship
URL;VALUE=URI:https://www.roca.church/events/sunday-worship/2026-10-11
END:VEVENT
END:VCALENDAR
