BEGIN:VCALENDAR
VERSION:2.0
PRODID:icalendar-ruby
CALSCALE:GREGORIAN
METHOD:PUBLISH
BEGIN:VEVENT
DTSTAMP:20260422T223736Z
UID:5-402359@roca.church
DTSTART:20261018T163000Z
DTEND:20261018T173000Z
CLASS:PUBLIC
CREATED:20260422T153612
DESCRIPTION:Sunday Worship
LAST-MODIFIED:20260422T153612
LOCATION:
SUMMARY:Sunday Worship
URL;VALUE=URI:https://www.roca.church/events/sunday-worship/2026-10-18
END:VEVENT
END:VCALENDAR
