BEGIN:VCALENDAR
VERSION:2.0
PRODID:icalendar-ruby
CALSCALE:GREGORIAN
METHOD:PUBLISH
BEGIN:VEVENT
DTSTAMP:20260423T002954Z
UID:5-402621@roca.church
DTSTART:20261025T163000Z
DTEND:20261025T173000Z
CLASS:PUBLIC
CREATED:20260422T182727
DESCRIPTION:Sunday Worship
LAST-MODIFIED:20260422T182727
LOCATION:
SUMMARY:Sunday Worship
URL;VALUE=URI:https://www.roca.church/events/sunday-worship/2026-10-25
END:VEVENT
END:VCALENDAR
